BEGIN:VCALENDAR
VERSION:2.0
PRODID:gruene-hanau.de
METHOD:PUBLISH
BEGIN:VTIMEZONE
TZID:Europe/Berlin
X-LIC-LOCATION:Europe/Berlin
BEGIN:DAYLIGHT
TZOFFSETFROM:+0100
TZOFFSETTO:+0200
TZNAME:CEST
DTSTART:19700329T020000
RRULE:FREQ=YEARLY;INTERVAL=1;BYDAY=-1SU;BYMONTH=3
END:DAYLIGHT
BEGIN:STANDARD
TZOFFSETFROM:+0200
TZOFFSETTO:+0100
TZNAME:CET
DTSTART:19701025T030000
RRULE:FREQ=YEARLY;INTERVAL=1;BYDAY=-1SU;BYMONTH=10
END:STANDARD
END:VTIMEZONE
BEGIN:VEVENT
UID:dc092e52d529dac268c0561e73d168fa@gruene-hanau.de
URL;VALUE=URI:https://gruene-hanau.de/termine/ag-klima-energie-und-natur/
LOCATION:Geschäftsstelle, Calvinstraße 10, 63450 Hanau
SUMMARY:AG Klima, Energie und Natur
DESCRIPTION;ALTREP="data:text/html,%0A%3Cp%3EDie%20AG%20Klima%2C%20Energi
 e%20und%20Natur%20trifft%20sich%20wieder%20und%20l%C3%A4dt%20alle%20Inter
 essierten%20herzlich%20ein.%20Gemeinsam%20wollen%20wir%20aktuelle%20Theme
 n%20diskutieren%2C%20Ideen%20entwickeln%20und%20konkrete%20Projekte%20vor
 anbringen.%20Kommt%20vorbei%2C%20bringt%20eure%20Perspektiven%20ein%20und
 %20gestaltet%20mit%20uns%20die%20%C3%B6kologische%20Zukunft%20vor%20Ort%2
 1%3C%2Fp%3E%0A%0A%0A%0A%3Cp%3EMelde%20dich%20bei%20Interesse%20gern%20bei
 %20Angelika%20%28gunkel%40gruene-hanau.de%29.%3C%2Fp%3E%0A%0A%0A%0A%3Cp%3
 E%3C%2Fp%3E%0A":Die AG Klima\, Energie und Natur trifft sich wieder und l
 ädt alle Interessierten herzlich ein. Gemeinsam wollen wir aktuelle Them
 en diskutieren\, Ideen entwickeln und konkrete Projekte voranbringen. Kom
 mt vorbei\, bringt eure Perspektiven ein und gestaltet mit uns die ökolo
 gische Zukunft vor Ort!\n\nMelde dich bei Interesse gern bei Angelika (gu
 nkel@gruene-hanau.de).
CLASS:PUBLIC
DTSTART;TZID=Europe/Berlin:20260430T183000
DTEND;TZID=Europe/Berlin:20260430T200000
DTSTAMP:20260422T102229
END:VEVENT
END:VCALENDAR