BEGIN:VCALENDAR
VERSION:2.0
PRODID:gruene-hanau.de
METHOD:PUBLISH
BEGIN:VTIMEZONE
TZID:Europe/Berlin
X-LIC-LOCATION:Europe/Berlin
BEGIN:DAYLIGHT
TZOFFSETFROM:+0100
TZOFFSETTO:+0200
TZNAME:CEST
DTSTART:19700329T020000
RRULE:FREQ=YEARLY;INTERVAL=1;BYDAY=-1SU;BYMONTH=3
END:DAYLIGHT
BEGIN:STANDARD
TZOFFSETFROM:+0200
TZOFFSETTO:+0100
TZNAME:CET
DTSTART:19701025T030000
RRULE:FREQ=YEARLY;INTERVAL=1;BYDAY=-1SU;BYMONTH=10
END:STANDARD
END:VTIMEZONE
BEGIN:VEVENT
UID:f2e8458d3da8fcba4e52f357dd318049@gruene-hanau.de
URL;VALUE=URI:https://gruene-hanau.de/termine/csd-hanau/
LOCATION:
SUMMARY:CSD Hanau
DESCRIPTION;ALTREP="data:text/html,%0A%3Cp%3EWir%20sind%20beim%20CSD%20Ha
 nau%20dabei%20und%20setzen%20gemeinsam%20ein%20Zeichen%20f%C3%BCr%20Vielf
 alt%2C%20Respekt%20und%20Gleichberechtigung.%20Kommt%20gerne%20vorbei%2C%
 20zeigt%20Haltung%20und%20feiert%20mit%20uns%20ein%20buntes%20und%20solid
 arisches%20Miteinander.%20Wir%20freuen%20uns%20auf%20viele%20Begegnungen%
 20und%20ein%20starkes%20Zeichen%20f%C3%BCr%20die%20Community%21%3C%2Fp%3E
 %0A":Wir sind beim CSD Hanau dabei und setzen gemeinsam ein Zeichen für 
 Vielfalt\, Respekt und Gleichberechtigung. Kommt gerne vorbei\, zeigt Hal
 tung und feiert mit uns ein buntes und solidarisches Miteinander. Wir fre
 uen uns auf viele Begegnungen und ein starkes Zeichen für die Community!
CLASS:PUBLIC
DTSTART;TZID=Europe/Berlin:20260627
DTEND;TZID=Europe/Berlin:20260628
DTSTAMP:20260422T101153
END:VEVENT
END:VCALENDAR