BEGIN:VCALENDAR
VERSION:2.0
PRODID:gruene-hanau.de
METHOD:PUBLISH
BEGIN:VTIMEZONE
TZID:Europe/Berlin
X-LIC-LOCATION:Europe/Berlin
BEGIN:DAYLIGHT
TZOFFSETFROM:+0100
TZOFFSETTO:+0200
TZNAME:CEST
DTSTART:19700329T020000
RRULE:FREQ=YEARLY;INTERVAL=1;BYDAY=-1SU;BYMONTH=3
END:DAYLIGHT
BEGIN:STANDARD
TZOFFSETFROM:+0200
TZOFFSETTO:+0100
TZNAME:CET
DTSTART:19701025T030000
RRULE:FREQ=YEARLY;INTERVAL=1;BYDAY=-1SU;BYMONTH=10
END:STANDARD
END:VTIMEZONE
BEGIN:VEVENT
UID:ef1bc05766579231a8d0f93c8b389f59@gruene-hanau.de
URL;VALUE=URI:https://gruene-hanau.de/termine/gemeinsamer-weihnachtsmarkt
 besuch-3/
LOCATION:
SUMMARY:Gemeinsamer Weihnachtsmarktbesuch
DESCRIPTION;ALTREP="data:text/html,%0A%3Cp%3ELasst%20uns%20gemeinsam%20in
 %20Weihnachtsstimmung%20kommen%21%20Wir%20treffen%20uns%20auf%20dem%20Wei
 hnachtsmarkt%2C%20schlendern%20durch%20die%20St%C3%A4nde%2C%20genie%C3%9F
 en%20Gl%C3%BChwein%20und%20Punsch%20und%20haben%20einfach%20eine%20sch%C3
 %B6ne%20Zeit%20zusammen.%20Kommt%20vorbei%20%E2%80%93%20wir%20freuen%20un
 s%20auf%20euch%21%3C%2Fp%3E%0A":Lasst uns gemeinsam in Weihnachtsstimmung
  kommen! Wir treffen uns auf dem Weihnachtsmarkt\, schlendern durch die S
 tände\, genießen Glühwein und Punsch und haben einfach eine schöne Ze
 it zusammen. Kommt vorbei – wir freuen uns auf euch!
CLASS:PUBLIC
DTSTART;TZID=Europe/Berlin:20261217T190000
DTEND;TZID=Europe/Berlin:20261217T210000
DTSTAMP:20260422T101142
END:VEVENT
END:VCALENDAR