BEGIN:VCALENDAR
VERSION:2.0
PRODID:gruene-hanau.de
METHOD:PUBLISH
BEGIN:VTIMEZONE
TZID:Europe/Berlin
X-LIC-LOCATION:Europe/Berlin
BEGIN:DAYLIGHT
TZOFFSETFROM:+0100
TZOFFSETTO:+0200
TZNAME:CEST
DTSTART:19700329T020000
RRULE:FREQ=YEARLY;INTERVAL=1;BYDAY=-1SU;BYMONTH=3
END:DAYLIGHT
BEGIN:STANDARD
TZOFFSETFROM:+0200
TZOFFSETTO:+0100
TZNAME:CET
DTSTART:19701025T030000
RRULE:FREQ=YEARLY;INTERVAL=1;BYDAY=-1SU;BYMONTH=10
END:STANDARD
END:VTIMEZONE
BEGIN:VEVENT
UID:9599d8a353f71ab3abb62a1dc199f6b7@gruene-hanau.de
URL;VALUE=URI:https://gruene-hanau.de/termine/mitgliederversammlung-35/
LOCATION:Geschäftsstelle, Calvinstraße 10, 63450 Hanau
SUMMARY:Mitgliederversammlung
DESCRIPTION;ALTREP="data:text/html,%0A%3Cp%3EWir%20laden%20euch%20%26amp%
 3B%20alle%20Interessierte%20herzlich%20zu%20unserer%20n%C3%A4chsten%20Mit
 gliederversammlung%20ein%21%20Kommt%20vorbei%2C%20tauscht%20euch%20aus%2C
 %20gestaltet%20mit%20und%20erfahrt%20alles%20Wichtige%20aus%20unserem%20O
 rtsverband.%20Wir%20freuen%20uns%20auf%20euch%21%3C%2Fp%3E%0A":Wir laden 
 euch & alle Interessierte herzlich zu unserer nächsten Mitgliederversamm
 lung ein! Kommt vorbei\, tauscht euch aus\, gestaltet mit und erfahrt all
 es Wichtige aus unserem Ortsverband. Wir freuen uns auf euch!
CLASS:PUBLIC
DTSTART;TZID=Europe/Berlin:20261022T191500
DTEND;TZID=Europe/Berlin:20261022T210000
DTSTAMP:20260422T101346
END:VEVENT
END:VCALENDAR