BEGIN:VCALENDAR
VERSION:2.0
PRODID:gruene-hanau.de
METHOD:PUBLISH
BEGIN:VTIMEZONE
TZID:Europe/Berlin
X-LIC-LOCATION:Europe/Berlin
BEGIN:DAYLIGHT
TZOFFSETFROM:+0100
TZOFFSETTO:+0200
TZNAME:CEST
DTSTART:19700329T020000
RRULE:FREQ=YEARLY;INTERVAL=1;BYDAY=-1SU;BYMONTH=3
END:DAYLIGHT
BEGIN:STANDARD
TZOFFSETFROM:+0200
TZOFFSETTO:+0100
TZNAME:CET
DTSTART:19701025T030000
RRULE:FREQ=YEARLY;INTERVAL=1;BYDAY=-1SU;BYMONTH=10
END:STANDARD
END:VTIMEZONE
BEGIN:VEVENT
UID:d0e0aa16b4562a75aeef6a30e6e5b0e2@gruene-hanau.de
URL;VALUE=URI:https://gruene-hanau.de/termine/projekt-zukunftswerkstatt/
LOCATION:
SUMMARY:Projekt „Zukunftswerkstatt“
DESCRIPTION;ALTREP="data:text/html,%0A%3Cp%3EDie%20Projektgruppe%20%E2%80
 %9EZukunftswerkstatt%E2%80%9C%20trifft%20sich%20erneut%20und%20arbeitet%2
 0gemeinsam%20an%20Ideen%20f%C3%BCr%20die%20Zukunft%20unserer%20politische
 n%20Arbeit%20vor%20Ort.%20Im%20Fokus%20stehen%20Austausch%2C%20kreative%2
 0Ans%C3%A4tze%20und%20die%20Entwicklung%20konkreter%20Projekte%20und%20Sc
 hwerpunkte.%20Alle%20Interessierten%20sind%20herzlich%20eingeladen%2C%20s
 ich%20einzubringen%20und%20mitzugestalten%21%3C%2Fp%3E%0A%0A%0A%0A%3Cp%3E
 Interessiert%3F%20Dann%20melde%20dich%20unter%20va%40gruene-hanau.de%3C%2
 Fp%3E%0A":Die Projektgruppe „Zukunftswerkstatt“ trifft sich erneut un
 d arbeitet gemeinsam an Ideen für die Zukunft unserer politischen Arbeit
  vor Ort. Im Fokus stehen Austausch\, kreative Ansätze und die Entwicklu
 ng konkreter Projekte und Schwerpunkte. Alle Interessierten sind herzlich
  eingeladen\, sich einzubringen und mitzugestalten!\n\nInteressiert? Dann
  melde dich unter va@gruene-hanau.de
CLASS:PUBLIC
DTSTART;TZID=Europe/Berlin:20260518
DTEND;TZID=Europe/Berlin:20260519
DTSTAMP:20260422T101424
END:VEVENT
END:VCALENDAR