BEGIN:VCALENDAR
VERSION:2.0
PRODID:gruene-hanau.de
METHOD:PUBLISH
BEGIN:VTIMEZONE
TZID:Europe/Berlin
X-LIC-LOCATION:Europe/Berlin
BEGIN:DAYLIGHT
TZOFFSETFROM:+0100
TZOFFSETTO:+0200
TZNAME:CEST
DTSTART:19700329T020000
RRULE:FREQ=YEARLY;INTERVAL=1;BYDAY=-1SU;BYMONTH=3
END:DAYLIGHT
BEGIN:STANDARD
TZOFFSETFROM:+0200
TZOFFSETTO:+0100
TZNAME:CET
DTSTART:19701025T030000
RRULE:FREQ=YEARLY;INTERVAL=1;BYDAY=-1SU;BYMONTH=10
END:STANDARD
END:VTIMEZONE
BEGIN:VEVENT
UID:44be070613ef37898f536e3851637a6d@gruene-hanau.de
URL;VALUE=URI:https://gruene-hanau.de/termine/spieleabend-5/
LOCATION:Geschäftsstelle, Calvinstraße 10, 63450 Hanau
SUMMARY:Spieleabend
DESCRIPTION;ALTREP="data:text/html,%0A%3Cp%3E%3Cstrong%3ESpieleabend%20f%
 C3%BCr%20alle%20%3F%3C%2Fstrong%3E%3C%2Fp%3E%0A%0A%0A%0A%3Cp%3EDu%20hast%
 20Lust%20auf%20einen%20entspannten%20Abend%20mit%20netten%20Menschen%2C%2
 0guten%20Gespr%C3%A4chen%20und%20einer%20Runde%20Spa%C3%9F%3F%20Dann%20ko
 mm%20zu%20unserem%20Spieleabend%21%3C%2Fp%3E%0A%0A%0A%0A%3Cp%3EOb%20Brett
 spiele%2C%20Kartenspiele%20oder%20einfach%20ein%20gem%C3%BCtliches%20Beis
 ammensein%20%E2%80%93%20bring%20gern%20dein%20Lieblingsspiel%20mit%20oder
 %20lass%20dich%20%C3%BCberraschen%2C%20was%20wir%20vor%20Ort%20haben.%20I
 m%20Mittelpunkt%20steht%20das%20gemeinsame%20Zusammensein%20in%20lockerer
 %20Atmosph%C3%A4re.%3C%2Fp%3E%0A%0A%0A%0A%3Cp%3EGanz%20egal%2C%20ob%20du%
 20schon%20lange%20dabei%20bist%20oder%20einfach%20mal%20reinschnuppern%20
 m%C3%B6chtest%3A%20Auch%20Nicht-Mitglieder%20sind%20herzlich%20willkommen
 %21%20%3F%3C%2Fp%3E%0A%0A%0A%0A%3Cp%3EKomm%20vorbei%2C%20lern%20uns%20ken
 nen%20und%20verbring%20einen%20sch%C3%B6nen%20Abend%20mit%20uns.%20Wir%20
 freuen%20uns%20auf%20dich%21%3C%2Fp%3E%0A":Spieleabend für alle ?\n\nDu 
 hast Lust auf einen entspannten Abend mit netten Menschen\, guten Gesprä
 chen und einer Runde Spaß? Dann komm zu unserem Spieleabend!\n\nOb Brett
 spiele\, Kartenspiele oder einfach ein gemütliches Beisammensein – bri
 ng gern dein Lieblingsspiel mit oder lass dich überraschen\, was wir vor
  Ort haben. Im Mittelpunkt steht das gemeinsame Zusammensein in lockerer 
 Atmosphäre.\n\nGanz egal\, ob du schon lange dabei bist oder einfach mal
  reinschnuppern möchtest: Auch Nicht-Mitglieder sind herzlich willkommen
 ! ?\n\nKomm vorbei\, lern uns kennen und verbring einen schönen Abend mi
 t uns. Wir freuen uns auf dich!
CLASS:PUBLIC
DTSTART;TZID=Europe/Berlin:20260422T190000
DTEND;TZID=Europe/Berlin:20260422T210000
DTSTAMP:20260422T085612
END:VEVENT
BEGIN:VEVENT
UID:75ad05c5821c0b97aa03e6b0a2e4e81b@gruene-hanau.de
URL;VALUE=URI:https://gruene-hanau.de/termine/workshop-fuer-ortsbeiraetin
 nen/
LOCATION:Geschäftsstelle, Calvinstraße 10, 63450 Hanau
SUMMARY:Workshop für Ortsbeirät*innen
DESCRIPTION;ALTREP="data:text/html,%0A%3Cp%3EAm%20Freitag%2C%20den%2024.0
 4.%2C%20findet%20unser%20zweiter%20Workshop%20f%C3%BCr%20neue%20Ortsbeir%
 C3%A4t%2Ainnen%20statt.%20Der%20Workshop%20richtet%20sich%20an%20alle%2C%
 20die%20neu%20im%20Ortsbeirat%20sind%20und%20sich%20einen%20%C3%9Cberblic
 k%20%C3%BCber%20Aufgaben%2C%20Abl%C3%A4ufe%20und%20Gestaltungsm%C3%B6glic
 hkeiten%20verschaffen%20m%C3%B6chten.%20In%20entspannter%20Atmosph%C3%A4r
 e%20gibt%20es%20Raum%20f%C3%BCr%20Fragen%2C%20Austausch%20und%20praktisch
 e%20Tipps%20f%C3%BCr%20die%20Arbeit%20vor%20Ort.%20Wir%20freuen%20uns%20a
 uf%20einen%20motivierenden%20gemeinsamen%20Einstieg%21%3C%2Fp%3E%0A":Am F
 reitag\, den 24.04.\, findet unser zweiter Workshop für neue Ortsbeirät
 *innen statt. Der Workshop richtet sich an alle\, die neu im Ortsbeirat s
 ind und sich einen Überblick über Aufgaben\, Abläufe und Gestaltungsm
 öglichkeiten verschaffen möchten. In entspannter Atmosphäre gibt es Ra
 um für Fragen\, Austausch und praktische Tipps für die Arbeit vor Ort. 
 Wir freuen uns auf einen motivierenden gemeinsamen Einstieg!
CLASS:PUBLIC
DTSTART;TZID=Europe/Berlin:20260424T180000
DTEND;TZID=Europe/Berlin:20260424T200000
DTSTAMP:20260422T085612
END:VEVENT
BEGIN:VEVENT
UID:d6c8a4eec75d78143aa11cfb86cff4de@gruene-hanau.de
URL;VALUE=URI:https://gruene-hanau.de/termine/stammtisch/
LOCATION:
SUMMARY:Stammtisch
DESCRIPTION;ALTREP="data:text/html,%0A%3Cp%3EUnser%20n%C3%A4chster%20Stam
 mtisch%20steht%20an%20und%20bietet%20die%20Gelegenheit%20zum%20entspannte
 n%20Austausch%20in%20lockerer%20Atmosph%C3%A4re.%20Egal%20ob%20Mitglied%2
 0oder%20interessiert%20%E2%80%93%20kommt%20vorbei%2C%20lernt%20uns%20kenn
 en%20und%20bringt%20eure%20Themen%20und%20Fragen%20mit.%20Wir%20freuen%20
 uns%20auf%20gute%20Gespr%C3%A4che%20und%20einen%20sch%C3%B6nen%20Abend%20
 gemeinsam%21%3C%2Fp%3E%0A%0A%0A%0A%3Cp%3EDer%20Ort%20wird%20noch%20bekann
 tgegeben.%3C%2Fp%3E%0A":Unser nächster Stammtisch steht an und bietet di
 e Gelegenheit zum entspannten Austausch in lockerer Atmosphäre. Egal ob 
 Mitglied oder interessiert – kommt vorbei\, lernt uns kennen und bringt
  eure Themen und Fragen mit. Wir freuen uns auf gute Gespräche und einen
  schönen Abend gemeinsam!\n\nDer Ort wird noch bekanntgegeben.
CLASS:PUBLIC
DTSTART;TZID=Europe/Berlin:20260428T191500
DTEND;TZID=Europe/Berlin:20260428T210000
DTSTAMP:20260422T085612
END:VEVENT
BEGIN:VEVENT
UID:ee7d5b47ef80353ef9650e861ea15beb@gruene-hanau.de
URL;VALUE=URI:https://gruene-hanau.de/termine/ag-klima-energie-und-natur/
LOCATION:Geschäftsstelle, Calvinstraße 10, 63450 Hanau
SUMMARY:AG Klima, Energie und Natur
DESCRIPTION;ALTREP="data:text/html,%0A%3Cp%3EDie%20AG%20Klima%2C%20Energi
 e%20und%20Natur%20trifft%20sich%20wieder%20und%20l%C3%A4dt%20alle%20Inter
 essierten%20herzlich%20ein.%20Gemeinsam%20wollen%20wir%20aktuelle%20Theme
 n%20diskutieren%2C%20Ideen%20entwickeln%20und%20konkrete%20Projekte%20vor
 anbringen.%20Kommt%20vorbei%2C%20bringt%20eure%20Perspektiven%20ein%20und
 %20gestaltet%20mit%20uns%20die%20%C3%B6kologische%20Zukunft%20vor%20Ort%2
 1%3C%2Fp%3E%0A%0A%0A%0A%3Cp%3EMelde%20dich%20bei%20Interesse%20gern%20bei
 %20Angelika%20%28gunkel%40gruene-hanau.de%29.%3C%2Fp%3E%0A%0A%0A%0A%3Cp%3
 E%3C%2Fp%3E%0A":Die AG Klima\, Energie und Natur trifft sich wieder und l
 ädt alle Interessierten herzlich ein. Gemeinsam wollen wir aktuelle Them
 en diskutieren\, Ideen entwickeln und konkrete Projekte voranbringen. Kom
 mt vorbei\, bringt eure Perspektiven ein und gestaltet mit uns die ökolo
 gische Zukunft vor Ort!\n\nMelde dich bei Interesse gern bei Angelika (gu
 nkel@gruene-hanau.de).
CLASS:PUBLIC
DTSTART;TZID=Europe/Berlin:20260430T183000
DTEND;TZID=Europe/Berlin:20260430T200000
DTSTAMP:20260422T085612
END:VEVENT
BEGIN:VEVENT
UID:f2b3762958921c1f381ad0933c591b6c@gruene-hanau.de
URL;VALUE=URI:https://gruene-hanau.de/termine/ag-mobilitaet/
LOCATION:Geschäftsstelle, Calvinstraße 10, 63450 Hanau
SUMMARY:AG Mobilität
DESCRIPTION;ALTREP="data:text/html,%0A%3Cp%3EDie%20AG%20Mobilit%C3%A4t%20
 trifft%20sich%20wieder%20und%20l%C3%A4dt%20alle%20Interessierten%20herzli
 ch%20ein.%20Gemeinsam%20wollen%20wir%20aktuelle%20Themen%20diskutieren%2C
 %20Ideen%20entwickeln%20und%20konkrete%20Projekte%20voranbringen.%20Kommt
 %20vorbei%2C%20bringt%20eure%20Perspektiven%20ein%20und%20gestaltet%20mit
 %20uns%20die%20%C3%B6kologische%20Zukunft%20vor%20Ort%21%3C%2Fp%3E%0A%0A%
 0A%0A%3Cp%3EMelde%20dich%20bei%20Interesse%20gern%20bei%20Angelika%20%28g
 unkel%40gruene-hanau.de%29.%3C%2Fp%3E%0A":Die AG Mobilität trifft sich w
 ieder und lädt alle Interessierten herzlich ein. Gemeinsam wollen wir ak
 tuelle Themen diskutieren\, Ideen entwickeln und konkrete Projekte voranb
 ringen. Kommt vorbei\, bringt eure Perspektiven ein und gestaltet mit uns
  die ökologische Zukunft vor Ort!\n\nMelde dich bei Interesse gern bei A
 ngelika (gunkel@gruene-hanau.de).
CLASS:PUBLIC
DTSTART;TZID=Europe/Berlin:20260505T183000
DTEND;TZID=Europe/Berlin:20260505T200000
DTSTAMP:20260422T085612
END:VEVENT
BEGIN:VEVENT
UID:0ec21fe0eac80f8a929ccc0bb43e81c5@gruene-hanau.de
URL;VALUE=URI:https://gruene-hanau.de/termine/aufraeumaktion/
LOCATION:Geschäftsstelle, Calvinstr. 10, 63450 Hanau
SUMMARY:Aufräumaktion
DESCRIPTION;ALTREP="data:text/html,%0A%3Cp%3EWir%20wollen%20unsere%20Gesc
 h%C3%A4ftsstelle%20ein%20bisschen%20entr%C3%BCmpeln%20und%20w%C3%BCrden%2
 0uns%20%C3%BCber%20eure%20Unterst%C3%BCtzung%20freuen%21%3C%2Fp%3E%0A%0A%
 0A%0A%3Cp%3EAls%20kleines%20Dankesch%C3%B6n%20gibt%E2%80%99s%20abends%20P
 izza%20aufs%20Haus.%3C%2Fp%3E%0A%0A%0A%0A%3Cp%3EKommt%20gerne%20vorbei%20
 und%20packt%20mit%20an%20%E2%80%93%20je%20mehr%20wir%20sind%2C%20desto%20
 schneller%20geht%E2%80%99s%21%20%3C%2Fp%3E%0A":Wir wollen unsere Geschäf
 tsstelle ein bisschen entrümpeln und würden uns über eure Unterstützu
 ng freuen!\n\nAls kleines Dankeschön gibt’s abends Pizza aufs Haus.\n\
 nKommt gerne vorbei und packt mit an – je mehr wir sind\, desto schnell
 er geht’s!
CLASS:PUBLIC
DTSTART;TZID=Europe/Berlin:20260506T180000
DTEND;TZID=Europe/Berlin:20260506T200000
DTSTAMP:20260422T085613
END:VEVENT
BEGIN:VEVENT
UID:6964796788b3ecc76e267a09d7243bf0@gruene-hanau.de
URL;VALUE=URI:https://gruene-hanau.de/termine/stadtradeln/
LOCATION:
SUMMARY:Stadtradeln
DESCRIPTION;ALTREP="data:text/html,%0A%3Cp%3EAuch%20in%20diesem%20Jahr%20
 beteiligen%20wir%20uns%20wieder%20am%20Stadtradeln%20und%20setzen%20gemei
 nsam%20ein%20Zeichen%20f%C3%BCr%20klimafreundliche%20Mobilit%C3%A4t.%20Ob
 %20im%20Alltag%20oder%20bei%20gemeinsamen%20Aktionen%20%E2%80%93%20jeder%
 20Kilometer%20z%C3%A4hlt%20und%20bringt%20unser%20GR%C3%9CNES%20Team%20vo
 ran.%20Macht%20mit%2C%20schwingt%20euch%20aufs%20Rad%20und%20sammelt%20Ki
 lometer%20f%C3%BCr%20ein%20besseres%20Klima%21%3C%2Fp%3E%0A%0A%0A%0A%3Cp%
 3EWeitere%20Infos%20findet%20ihr%20hier%3A%20%3Ca%20href%3D%22https%3A%2F
 %2Fwww.hanau.de%2Fstadtentwicklung%2Fenergie_klima%2Fnahmobilitaet%2Finde
 x.html%22%3Ehttps%3A%2F%2Fwww.hanau.de%2Fstadtentwicklung%2Fenergie_klima
 %2Fnahmobilitaet%2Findex.html%3C%2Fa%3E%3C%2Fp%3E%0A":Auch in diesem Jahr
  beteiligen wir uns wieder am Stadtradeln und setzen gemeinsam ein Zeiche
 n für klimafreundliche Mobilität. Ob im Alltag oder bei gemeinsamen Akt
 ionen – jeder Kilometer zählt und bringt unser GRÜNES Team voran. Mac
 ht mit\, schwingt euch aufs Rad und sammelt Kilometer für ein besseres K
 lima!\n\nWeitere Infos findet ihr hier: https://www.hanau.de/stadtentwick
 lung/energie_klima/nahmobilitaet/index.html
CLASS:PUBLIC
DTSTART;TZID=Europe/Berlin:20260509
DTEND;TZID=Europe/Berlin:20260530
DTSTAMP:20260422T085613
END:VEVENT
BEGIN:VEVENT
UID:4cdc886f801562c0d27e9f073e09027a@gruene-hanau.de
URL;VALUE=URI:https://gruene-hanau.de/termine/mainuferfest-2/
LOCATION:Mainufer, HU-Großauheim
SUMMARY:Mainuferfest
DESCRIPTION;ALTREP="data:text/html,%0A%3Cp%3EWir%20sind%20mit%20einem%20S
 tand%20auf%20dem%20Mainuferfest%20in%20Gro%C3%9Fauheim%20vertreten%20und%
 20freuen%20uns%20auf%20viele%20gute%20Gespr%C3%A4che%20mit%20euch%20vor%2
 0Ort.%20Kommt%20gerne%20vorbei%2C%20sagt%20Hallo%20und%20lernt%20uns%20un
 d%20unsere%20Arbeit%20n%C3%A4her%20kennen.%20%3C%2Fp%3E%0A%0A%0A%0A%3Cp%3
 EWenn%20ihr%20uns%20am%20Stand%20unterst%C3%BCtzen%20m%C3%B6chtet%2C%20me
 ldet%20euch%20gern%20%E2%80%93%20wir%20freuen%20uns%20%C3%BCber%20Helfer%
 2Ainnen%20f%C3%BCr%20die%20Standdienste%21%3C%2Fp%3E%0A%0A%0A%0A%3Cp%3E%3
 Ca%20href%3D%22https%3A%2F%2Ftermite.gruene.de%2Finvite%2FY7GQL5WMEcgM%22
 %3Ehttps%3A%2F%2Ftermite.gruene.de%2Finvite%2FY7GQL5WMEcgM%3C%2Fa%3E%3C%2
 Fp%3E%0A%0A%0A%0A%3Cp%3E%3C%2Fp%3E%0A":Wir sind mit einem Stand auf dem M
 ainuferfest in Großauheim vertreten und freuen uns auf viele gute Gespr
 äche mit euch vor Ort. Kommt gerne vorbei\, sagt Hallo und lernt uns und
  unsere Arbeit näher kennen.\n\nWenn ihr uns am Stand unterstützen möc
 htet\, meldet euch gern – wir freuen uns über Helfer*innen für die St
 anddienste!\n\nhttps://termite.gruene.de/invite/Y7GQL5WMEcgM
CLASS:PUBLIC
DTSTART;TZID=Europe/Berlin:20260509T113000
DTEND;TZID=Europe/Berlin:20260510T180000
DTSTAMP:20260422T085613
END:VEVENT
BEGIN:VEVENT
UID:cb447bb6d074c9315c410914fa089ce6@gruene-hanau.de
URL;VALUE=URI:https://gruene-hanau.de/termine/projekt-zukunftswerkstatt/
LOCATION:
SUMMARY:Projekt „Zukunftswerkstatt“
DESCRIPTION;ALTREP="data:text/html,%0A%3Cp%3EDie%20Projektgruppe%20%E2%80
 %9EZukunftswerkstatt%E2%80%9C%20trifft%20sich%20erneut%20und%20arbeitet%2
 0gemeinsam%20an%20Ideen%20f%C3%BCr%20die%20Zukunft%20unserer%20politische
 n%20Arbeit%20vor%20Ort.%20Im%20Fokus%20stehen%20Austausch%2C%20kreative%2
 0Ans%C3%A4tze%20und%20die%20Entwicklung%20konkreter%20Projekte%20und%20Sc
 hwerpunkte.%20Alle%20Interessierten%20sind%20herzlich%20eingeladen%2C%20s
 ich%20einzubringen%20und%20mitzugestalten%21%3C%2Fp%3E%0A%0A%0A%0A%3Cp%3E
 Interessiert%3F%20Dann%20melde%20dich%20unter%20va%40gruene-hanau.de%3C%2
 Fp%3E%0A":Die Projektgruppe „Zukunftswerkstatt“ trifft sich erneut un
 d arbeitet gemeinsam an Ideen für die Zukunft unserer politischen Arbeit
  vor Ort. Im Fokus stehen Austausch\, kreative Ansätze und die Entwicklu
 ng konkreter Projekte und Schwerpunkte. Alle Interessierten sind herzlich
  eingeladen\, sich einzubringen und mitzugestalten!\n\nInteressiert? Dann
  melde dich unter va@gruene-hanau.de
CLASS:PUBLIC
DTSTART;TZID=Europe/Berlin:20260518
DTEND;TZID=Europe/Berlin:20260519
DTSTAMP:20260422T085613
END:VEVENT
BEGIN:VEVENT
UID:2607b7ca8bfb5965d4e168298d5195ae@gruene-hanau.de
URL;VALUE=URI:https://gruene-hanau.de/termine/radtour/
LOCATION:
SUMMARY:Radtour
DESCRIPTION;ALTREP="data:text/html,%0A%3Cp%3EIm%20Rahmen%20des%20Stadtrad
 elns%20planen%20wir%20eine%20gemeinsame%20Radtour%20am%20Pfingstmontag%20
 und%20laden%20euch%20herzlich%20dazu%20ein.%20Gemeinsam%20wollen%20wir%20
 in%20Bewegung%20kommen%2C%20unsere%20Stadt%20erkunden%20und%20ein%20Zeich
 en%20f%C3%BCr%20nachhaltige%20Mobilit%C3%A4t%20setzen.%20Weitere%20Inform
 ationen%20zu%20Strecke%20und%20Ablauf%20folgen%20in%20K%C3%BCrze%20%E2%80
 %93%20merkt%20euch%20den%20Termin%20gerne%20schon%20vor%21%3C%2Fp%3E%0A":
 Im Rahmen des Stadtradelns planen wir eine gemeinsame Radtour am Pfingstm
 ontag und laden euch herzlich dazu ein. Gemeinsam wollen wir in Bewegung 
 kommen\, unsere Stadt erkunden und ein Zeichen für nachhaltige Mobilitä
 t setzen. Weitere Informationen zu Strecke und Ablauf folgen in Kürze 
 – merkt euch den Termin gerne schon vor!
CLASS:PUBLIC
DTSTART;TZID=Europe/Berlin:20260525
DTEND;TZID=Europe/Berlin:20260526
DTSTAMP:20260422T085613
END:VEVENT
BEGIN:VEVENT
UID:e1c3c429d096ef6801e148e61739da63@gruene-hanau.de
URL;VALUE=URI:https://gruene-hanau.de/termine/mitgliederversammlung-33/
LOCATION:Geschäftsstelle, Calvinstraße 10, 63450 Hanau
SUMMARY:Mitgliederversammlung
DESCRIPTION;ALTREP="data:text/html,%0A%3Cp%3EWir%20laden%20euch%20%26amp%
 3B%20alle%20Interessierte%20herzlich%20zu%20unserer%20n%C3%A4chsten%20Mit
 gliederversammlung%20ein%21%20Kommt%20vorbei%2C%20tauscht%20euch%20aus%2C
 %20gestaltet%20mit%20und%20erfahrt%20alles%20Wichtige%20aus%20unserem%20O
 rtsverband.%20Wir%20freuen%20uns%20auf%20euch%21%3C%2Fp%3E%0A":Wir laden 
 euch & alle Interessierte herzlich zu unserer nächsten Mitgliederversamm
 lung ein! Kommt vorbei\, tauscht euch aus\, gestaltet mit und erfahrt all
 es Wichtige aus unserem Ortsverband. Wir freuen uns auf euch!
CLASS:PUBLIC
DTSTART;TZID=Europe/Berlin:20260528T191500
DTEND;TZID=Europe/Berlin:20260528T210000
DTSTAMP:20260422T085613
END:VEVENT
BEGIN:VEVENT
UID:8c4f1380b73d4cd6892396a2eb62f4aa@gruene-hanau.de
URL;VALUE=URI:https://gruene-hanau.de/termine/sommerfest-4/
LOCATION:Licht- und Luftbad, Hanau
SUMMARY:Sommerfest
DESCRIPTION;ALTREP="data:text/html,%0A%3Cp%3EUnser%20Sommerfest%20im%20Li
 cht-%20und%20Luftbad%20steht%20bevor%20und%20wir%20freuen%20uns%20auf%20e
 inen%20entspannten%20Tag%20mit%20euch%20in%20sch%C3%B6ner%20Atmosph%C3%A4
 re.%20Bei%20Musik%2C%20Essen%20und%20guten%20Gespr%C3%A4chen%20wollen%20w
 ir%20gemeinsam%20den%20Sommer%20genie%C3%9Fen%20und%20miteinander%20ins%2
 0Gespr%C3%A4ch%20kommen.%20Bringt%20gerne%20Freund%2Ainnen%20und%20Famili
 e%20mit%20%E2%80%93%20alle%20sind%20herzlich%20willkommen%21%3C%2Fp%3E%0A
 ":Unser Sommerfest im Licht- und Luftbad steht bevor und wir freuen uns a
 uf einen entspannten Tag mit euch in schöner Atmosphäre. Bei Musik\, Es
 sen und guten Gesprächen wollen wir gemeinsam den Sommer genießen und m
 iteinander ins Gespräch kommen. Bringt gerne Freund*innen und Familie mi
 t – alle sind herzlich willkommen!
CLASS:PUBLIC
DTSTART;TZID=Europe/Berlin:20260624T180000
DTEND;TZID=Europe/Berlin:20260624T210000
DTSTAMP:20260422T085613
END:VEVENT
BEGIN:VEVENT
UID:f57559e263d08386323342c0a1dd37cf@gruene-hanau.de
URL;VALUE=URI:https://gruene-hanau.de/termine/csd-hanau/
LOCATION:
SUMMARY:CSD Hanau
DESCRIPTION;ALTREP="data:text/html,%0A%3Cp%3EWir%20sind%20beim%20CSD%20Ha
 nau%20dabei%20und%20setzen%20gemeinsam%20ein%20Zeichen%20f%C3%BCr%20Vielf
 alt%2C%20Respekt%20und%20Gleichberechtigung.%20Kommt%20gerne%20vorbei%2C%
 20zeigt%20Haltung%20und%20feiert%20mit%20uns%20ein%20buntes%20und%20solid
 arisches%20Miteinander.%20Wir%20freuen%20uns%20auf%20viele%20Begegnungen%
 20und%20ein%20starkes%20Zeichen%20f%C3%BCr%20die%20Community%21%3C%2Fp%3E
 %0A":Wir sind beim CSD Hanau dabei und setzen gemeinsam ein Zeichen für 
 Vielfalt\, Respekt und Gleichberechtigung. Kommt gerne vorbei\, zeigt Hal
 tung und feiert mit uns ein buntes und solidarisches Miteinander. Wir fre
 uen uns auf viele Begegnungen und ein starkes Zeichen für die Community!
CLASS:PUBLIC
DTSTART;TZID=Europe/Berlin:20260627
DTEND;TZID=Europe/Berlin:20260628
DTSTAMP:20260422T085613
END:VEVENT
BEGIN:VEVENT
UID:866a586337da8d3632860e53384cbdbf@gruene-hanau.de
URL;VALUE=URI:https://gruene-hanau.de/termine/mitgliederversammlung-34/
LOCATION:Geschäftsstelle, Calvinstraße 10, 63450 Hanau
SUMMARY:Mitgliederversammlung
DESCRIPTION;ALTREP="data:text/html,%0A%3Cp%3EWir%20laden%20euch%20%26amp%
 3B%20alle%20Interessierte%20herzlich%20zu%20unserer%20n%C3%A4chsten%20Mit
 gliederversammlung%20ein%21%20Kommt%20vorbei%2C%20tauscht%20euch%20aus%2C
 %20gestaltet%20mit%20und%20erfahrt%20alles%20Wichtige%20aus%20unserem%20O
 rtsverband.%20Wir%20freuen%20uns%20auf%20euch%21%3C%2Fp%3E%0A":Wir laden 
 euch & alle Interessierte herzlich zu unserer nächsten Mitgliederversamm
 lung ein! Kommt vorbei\, tauscht euch aus\, gestaltet mit und erfahrt all
 es Wichtige aus unserem Ortsverband. Wir freuen uns auf euch!
CLASS:PUBLIC
DTSTART;TZID=Europe/Berlin:20260827T191500
DTEND;TZID=Europe/Berlin:20260827T210000
DTSTAMP:20260422T085613
END:VEVENT
BEGIN:VEVENT
UID:ecafbabe5a24433738fa75ea82c60284@gruene-hanau.de
URL;VALUE=URI:https://gruene-hanau.de/termine/huettenfest/
LOCATION:
SUMMARY:Hüttenfest
DESCRIPTION;ALTREP="data:text/html,%0A%3Cp%3EWir%20sind%20beim%20H%C3%BCt
 tenfest%20in%20Mittelbuchen%20vor%20Ort%20und%20freuen%20uns%20auf%20den%
 20Austausch%20mit%20euch%20in%20gem%C3%BCtlicher%20Atmosph%C3%A4re.%20Bei
 %20guter%20Stimmung%20und%20spannenden%20Gespr%C3%A4chen%20m%C3%B6chten%2
 0wir%20mit%20euch%20ins%20Gespr%C3%A4ch%20kommen%20und%20unsere%20Arbeit%
 20vorstellen.%20Kommt%20gerne%20vorbei%20%E2%80%93%20wir%20freuen%20uns%2
 0auf%20euch%21%3C%2Fp%3E%0A":Wir sind beim Hüttenfest in Mittelbuchen vo
 r Ort und freuen uns auf den Austausch mit euch in gemütlicher Atmosphä
 re. Bei guter Stimmung und spannenden Gesprächen möchten wir mit euch i
 ns Gespräch kommen und unsere Arbeit vorstellen. Kommt gerne vorbei – 
 wir freuen uns auf euch!
CLASS:PUBLIC
DTSTART;TZID=Europe/Berlin:20260905
DTEND;TZID=Europe/Berlin:20260906
DTSTAMP:20260422T085613
END:VEVENT
BEGIN:VEVENT
UID:e3b54669cf2183ef85154c8f75647de8@gruene-hanau.de
URL;VALUE=URI:https://gruene-hanau.de/termine/mitgliederversammlung-35/
LOCATION:Geschäftsstelle, Calvinstraße 10, 63450 Hanau
SUMMARY:Mitgliederversammlung
DESCRIPTION;ALTREP="data:text/html,%0A%3Cp%3EWir%20laden%20euch%20%26amp%
 3B%20alle%20Interessierte%20herzlich%20zu%20unserer%20n%C3%A4chsten%20Mit
 gliederversammlung%20ein%21%20Kommt%20vorbei%2C%20tauscht%20euch%20aus%2C
 %20gestaltet%20mit%20und%20erfahrt%20alles%20Wichtige%20aus%20unserem%20O
 rtsverband.%20Wir%20freuen%20uns%20auf%20euch%21%3C%2Fp%3E%0A":Wir laden 
 euch & alle Interessierte herzlich zu unserer nächsten Mitgliederversamm
 lung ein! Kommt vorbei\, tauscht euch aus\, gestaltet mit und erfahrt all
 es Wichtige aus unserem Ortsverband. Wir freuen uns auf euch!
CLASS:PUBLIC
DTSTART;TZID=Europe/Berlin:20261022T191500
DTEND;TZID=Europe/Berlin:20261022T210000
DTSTAMP:20260422T085613
END:VEVENT
BEGIN:VEVENT
UID:cd49870b8246df447803956bdca9970a@gruene-hanau.de
URL;VALUE=URI:https://gruene-hanau.de/termine/gemeinsamer-weihnachtsmarkt
 besuch-3/
LOCATION:
SUMMARY:Gemeinsamer Weihnachtsmarktbesuch
DESCRIPTION;ALTREP="data:text/html,%0A%3Cp%3ELasst%20uns%20gemeinsam%20in
 %20Weihnachtsstimmung%20kommen%21%20Wir%20treffen%20uns%20auf%20dem%20Wei
 hnachtsmarkt%2C%20schlendern%20durch%20die%20St%C3%A4nde%2C%20genie%C3%9F
 en%20Gl%C3%BChwein%20und%20Punsch%20und%20haben%20einfach%20eine%20sch%C3
 %B6ne%20Zeit%20zusammen.%20Kommt%20vorbei%20%E2%80%93%20wir%20freuen%20un
 s%20auf%20euch%21%3C%2Fp%3E%0A":Lasst uns gemeinsam in Weihnachtsstimmung
  kommen! Wir treffen uns auf dem Weihnachtsmarkt\, schlendern durch die S
 tände\, genießen Glühwein und Punsch und haben einfach eine schöne Ze
 it zusammen. Kommt vorbei – wir freuen uns auf euch!
CLASS:PUBLIC
DTSTART;TZID=Europe/Berlin:20261217T190000
DTEND;TZID=Europe/Berlin:20261217T210000
DTSTAMP:20260422T085613
END:VEVENT
END:VCALENDAR